BEGIN:VCALENDAR
VERSION:2.0
PRODID:-//Faculty of Arts, Chulalongkorn University - ECPv5.10.0//NONSGML v1.0//EN
CALSCALE:GREGORIAN
METHOD:PUBLISH
X-WR-CALNAME:Faculty of Arts, Chulalongkorn University
X-ORIGINAL-URL:https://www.arts.chula.ac.th/eng
X-WR-CALDESC:Events for Faculty of Arts, Chulalongkorn University
BEGIN:VTIMEZONE
TZID:UTC
BEGIN:STANDARD
TZOFFSETFROM:+0000
TZOFFSETTO:+0000
TZNAME:UTC
DTSTART:20210101T000000
END:STANDARD
END:VTIMEZONE
BEGIN:VEVENT
DTSTART;TZID=UTC:20210424T150000
DTEND;TZID=UTC:20210424T170000
DTSTAMP:20260419T215022
CREATED:20210519T104546Z
LAST-MODIFIED:20210519T155823Z
UID:1258-1619276400-1619283600@www.arts.chula.ac.th
SUMMARY:An Introduction to Hegel’s Science of Logic: Being\, Nothing\, Becoming\, and the Project of a Presuppositionless Science
DESCRIPTION:Inviting those who are interested to participate in the discussion on philosophy on the topic “An Introduction to Hegel’s Science of Logic: Being\, Nothing\, Becoming\, and the Project of a Presuppositionless Science” by Assistant Professor Nahum Brown\, PhD from Miyazaki International College\, Japan. \n\n\n\nThe event will be held on Saturday\, April 24\, 2021 from 3:00 to 5:00 p.m. via Zoom and Facebook Live: Department of Philosophy\, Chulalongkorn University \n\n\n\nPlease register to participate in the Zoom lecture at the link: https://tinyurl.com/hegelchula
URL:https://www.arts.chula.ac.th/eng/index.php/artsevent/an-introduction-to-hegels-science-of-logic-being-nothing-becoming-and-the-project-of-a-presuppositionless-science/
ATTACH;FMTTYPE=image/jpeg:https://www.arts.chula.ac.th/eng/wp-content/uploads/2021/05/169347673_147799050606939_2262644304244727199_n-1.jpg
END:VEVENT
END:VCALENDAR